Workbook
Name Agency_type: [1]!Government_entity_type[[#All],[< Agency type >]]
Name Commodities_list: #REF!
Name Commodity_names: [1]!Table5_Commodities_list[HS Product Description]
Name Companies_list: Companies[Nom complet de l’entreprise]
Name Currency_code_list: Table1_Country_codes_and_currencies[Code de devise (ISO 4217)]
Name GFS_list: Table6_GFS_codes_classification[Combiné]
Name Government_entities_list: Government_agencies[Nom complet de l’entité]
Name Project_phases_list: Table12[Étapes du projet]
Name Projectname: Companies15[Nom complet du projet]
Name Reporting_options_list: Table3_Reporting_options[Liste]
Name Revenue_stream_list: Government_revenues_table[Nom du flux de revenus]
Name Sector_list: Table7_sectors[Secteur (s)]
Name Simple_options_list: Table2_Simple_options[Liste]
Name Total_reconciled: Table10[Valeur de revenus]
Name Total_revenues: Government_revenues_table[Valeur des revenus]

Sheet Introduction
E4: Rempli le : | G4: AAAA-MM-JJ
C10: Modèle de données résumées pour les divulgations ITIE
C11: Version 2.0 appliquée le 1er Juillet 2019
C13: En remplissant ce modèle de données résumées avec des données de votre Rapport ITIE, vous rendrez ces dernières accessibles sous un format lisible par machine (Exigence 7.2.d).
C14: « Rendre le Rapport ITIE disponible en format données ouvertes (xlsx ou csv) en ligne et faire connaître sa disponibilité » - Exigence ITIE 7.1.c
C16: Comment fonctionne la publication de données ITIE :
C17: 1. N’utiliser qu’un classeur Excel par exercice fiscal couvert. Si la déclaration porte à la fois sur les hydrocarbures et l’exploitation minière, ces deux secteurs peuvent être inclus dans un seul classeur.
C18: 2. Remplir le classeur entier - parties 1 à 5
C19: 3. Prière de soumettre cette fiche de données en même temps que le Rapport ITIE. L’envoyer au Secrétariat international à : data@eiti.org.
C20: 4. Les données serviront à alimenter le référentiel mondial de données ITIE, disponible sur le site Internet international de l’ITIE à https://eiti.org/fr/donnees. Le fichier vous sera renvoyé, afin de pouvoir être publié sur les canaux de votre choix.
C22: Le présent formulaire modèle devra être rempli intégralement et soumis au Secrétariat international de l’ITIE pour chaque exercice fiscal couvert par le rapportage ITIE.
C25: Ce classeur comporte cinq parties. Insérer vos données en commençant par la partie 1 et continuer jusqu’à la partie 5
C27: Partie 1 (Présentation) : Insérer les caractéristiques relatives au pays et aux données.
... C31: Partie 5 (Données d’entreprise) : Inscrire des données d’entreprise - et celle de niveau projet - par flux de revenus.
C33: Le Secrétariat international peut prodiguer conseils et soutien sur demande. Veuillez le contacter à | E33: data@eiti.org
C35: Les cellules en orange doivent être complétées avant la soumission | E35: Les cellules en bleu ne servent qu’à indiquer les sources et/ou à inscrire des commentaires | G35: Les cellules en blanc n’exigent aucune action
C37: Vous recevrez des retours immédiats sur un certain nombre des données que vous aurez inscrites, et certaines cellules se rempliront automatiquement.
C40: Terminologie : Divulgation | E40: Terminologie : Options simples
C41: Oui, divulgation systématique : Si les données sont divulguées régulièrement et systématiquement par des entités de l’État et ou des entreprises, et si ces données sont fiables, sélectionner Oui, divulgation systématique | E41: Oui : Tous les aspects de la question ont reçu une réponse/ont été couverts.
C42: Oui, à travers le rapportage ITIE : Si le Rapport ITIE ou son site couvre certaines lacunes de divulgation relatives aux données du gouvernement ou des entreprises, sélectionner « Oui, dans le Rapport ITIE ». | E42: Partiellement : Des aspects de la question ont reçu une réponse/ont été couverts.
C43: Non disponible : Les données sont applicables au pays, mais il n’y a pas de données ou d’informations disponibles. | E43: Non : Aucune information n’est couverte.
C44: Sans objet : Si une exigence n’est pas pertinente, sélectionner « Sans objet ». Faire référence à toute information à ce sujet, telle que contenue dans le Rapport ITIE ou dans le procès-verbal d’une réunion du Groupe multipartite. | E44: Sans objet : La question n’est pas pertinente pour la rubrique en question. Si une explication est requise, faire référence à toute information démontrant la non-applicabilité.
C46: Pour plus d’information sur l’ITIE, visitez notre site Internet https://eiti.org/fr
C47: Vous voulez en savoir plus sur votre pays ? Vérifiez si votre pays met en œuvre la Norme ITIE en visitant https://eiti.org/fr/pays
C48: Pour la version la plus récente des modèles de données résumées, consultez https://eiti.org/fr/document/modele-donnees-resumees-itie
C49: Faites-nous connaître vos réactions ou signalez tout conflit au niveau des données ! Écrivez-nous à data@eiti.org
C51: Site Internet www.eiti.org Courriel secretariat@eiti.org Téléphone +47 22 20 08 00 Télécopieur +47 22 83 08 02
C52: Adresse EITI International Secretariat, Rådhusgata 26, 0151 Oslo, Norvège
B53: Pays ou région
B55: Exercice fiscal couvert par ce fichier de données
B56: Exercice fiscal couvert par ce fichier de données
B58: Source de données
B59: Source de données
B60: Source de données
B61: Source de données
B62: Source de données
B63: Source de données
B64: Source de données
B65: Source de données
B66: Source de données
...

Sheet Partie 1 - Présentation
G3: Modèle de données résumées
G4: =[2]Introduction!G4 -> AAAA-MM-JJ
C8: Partie 1 - (Présentation) Elle couvre les caractéristiques du pays et des données
C9: Comment remplir cette feuille :
C10: 1. Commençant par en haut, sélectionner votre réponse dans la colonne grise. Des indications s’affichent dans les cadres jaunes dès que la cellule a été sélectionnée.
C11: 2. Lorsqu’il aura été répondu à certaines questions, de nouvelles indications et questions peuvent s’afficher. Merci de répondre à chacune d’elles jusqu’à ce que la section ait été remplie.
C12: 3. Inclure au besoin toute information supplémentaire ou tout commentaire dans la colonne Source/Commentaires.
C13: Si vous avez des questions, veuillez contacter data@eiti.org
C15: Les cellules en orange doivent être complétées avant la soumission | E15: Les cellules en bleu pâle ne servent qu’à indiquer les sources et/ou à inscrire des commentaires | G15: Les cellules en blanc n’exigent aucune action
C17: Partie 1 - Présentation
C18: Description | E18: Inscrire les données dans cette colonne | G18: Source/Commentaires
C19: Pays ou région
B20: Pays ou région | C20: Nom du pays ou de la région | E20: Tchad
B21: Pays ou région | C21: Code ISO de la devise | E21: =IFERROR(VLOOKUP($E$20,[2]!Table1_Country_codes_and_currencies[#Data],3,FALSE),"") -> TCD
B22: Pays ou région | C22: Nom de la monnaie nationale | E22: =IFERROR(VLOOKUP($E$20,[2]!Table1_Country_codes_and_currencies[#Data],7,FALSE),"") -> Franc CFA d’Afrique centrale
B23: Pays ou région | C23: Monnaie nationale selon ISO-4217 | E23: =IFERROR(VLOOKUP($E$20,[2]!Table1_Country_codes_and_currencies[#Data],5,FALSE),"") -> XAF
C24: Exercice fiscal couvert par ce fichier de données
B25: Exercice fiscal couvert par ce fichier de données | C25: Date de début | E25: 43101 | G25: La période fiscale dans le cadre de la publication du douzième rapport ITIE du Tchad couvre l’année fiscale 2018.
B26: Exercice fiscal couvert par ce fichier de données | C26: Date de fin | E26: 43465
C27: Source de données
B28: Source de données | C28: Un Rapport ITIE a-t-il été préparé par un Administrateur indépendant ? | E28: Oui
B29: Source de données | C29: Quel est le nom de l’entreprise ? | E29: BDO LLP UK
B30: Source de données | C30: Date à laquelle le Rapport ITIE a été rendu public | E30: Rapprot non encore publié
B31: Source de données | C31: URL, Rapport ITIE
B32: Source de données | C32: Les données ITIE sont-elles systématiquement divulguées par le gouvernement à une adresse unique? | E32: Non
B33: Source de données | C33: Date de publication des données ITIE | E33: =IF(OR($E$32=[2]Listes!$I$4,$E$32=[2]Listes!$I$5),"<Date sous ce format: AAAA-MM-JJ>","")
B34: Source de données | C34: Lien vers le site Internet (URL) de données ITIE | E34: =IF(OR($E$32=[2]Listes!$I$4,$E$32=[2]Listes!$I$5),"<URL>","")
B35: Source de données | C35: Existe-t-il d’autres fichiers de caractère pertinent ? | E35: Sans objet
B36: Source de données | C36: Date à laquelle l’autre fichier a été rendu public | E36: =IF(OR($E$35=[2]Listes!$I$4,$E$35=[2]Listes!$I$5),"<Date sous ce format: AAAA-MM-JJ>","")
B37: Source de données | C37: URL
C38: Accessibilités des données et données ouvertes (Exigence 7.2)
C39: Le gouvernement applique-t-il une politique de données ouvertes ? | E39: Oui, divulgation systématique | G39: Conformément à la déclaration sur la mise en oeuvre du systéme de données ouvertes publié en décembre 2017, le Haut Comité National a décidé à partir du 01 janvier 2018, de publier régulièrement, sur le site de l'ITIE Tchad , toutes les informations contextuelles et financières du secteur extractif liées au processus de rapportage ITIE selon le mécanisme de données ouvertes. Toutefois, suite à la vérification des données publiées sur le site de l'ITIE Tchad, nous avons noté l'absence des données financières ainsi que la non-exhaustivité des données contexteulles sur le secteur extractif.
B40: Couverture/périmètre des données | C40: Portail/fichiers de données ouvertes | E40: https://eiti.org/document/chad-open-data-policy
B41: Couverture/périmètre des données | C41: Couverture/périmètre des données
B42: Couverture/périmètre des données | C42: Couverture sectorielle
B43: Couverture/périmètre des données | C43: Pétrole | E43: Oui
B44: Couverture/périmètre des données | C44: Gaz | E44: Non
B45: Couverture/périmètre des données | C45: Mines (y compris carrières) | E45: Oui
B46: Couverture/périmètre des données | C46: Autres secteurs (autres que les secteur en amont) | E46: Oui
B47: Couverture/périmètre des données | C47: Si oui, préciser le nom (insérer de nouvelles lignes si multiples) | E47: Transport pétrolier et Raffinage
...

Sheet Partie 2 - Liste de pointage
H3: Modèle de données résumées
H4: =[2]Introduction!G4 -> AAAA-MM-JJ
B8: Partie 2 (liste de vérification) Elle couvre l’information contextuelle et financière agrégée prévue par les Exigences ITIE 2,3,4,5 et 6.
B9: Comment remplir cette feuille :
B10: Pour chaque ligne, veuillez procéder comme suit
B11: 1. Commençant par le haut, répondez aux questions de la première colonne (Inclusion). Des indications vous sont données dans les cadres jaunes une fois que la cellule est mise en évidence. Cliquez sur les cellules relatives à chaque Exigence ITIE pour faire apparaître le libellé de la Norme ITIE.
B12: 2. D’autres orientations apparaissent lorsque vous remplissez les cellules. Remplissez-les comme indiqué, complétant chaque colonne de chaque ligne avant de remplir la ligne suivante.
B13: Par exemple, en sélectionnant « Oui, dans le Rapport ITIE », le texte « Veuillez inclure la section du Rapport ITIE » dans la case Source/unités apparaît.
B14: 3. Insérez au besoin toute information supplémentaire ou tout commentaire dans la colonne Commentaires/Notes.
B15: Si vous avez des questions, veuillez contacter data@eiti.org
B17: Les cellules en orange doivent être complétées avant la soumission | D17: Les cellules en bleu pâle ne servent qu’à indiquer les sources et/ou inscrire des commentaires | F17: Ignorez les cellules en blanc, car elles n’exigent aucune action
B19: Partie 2 - Liste de pointage
B20: Veuillez répondre à toutes les questions posées ci-dessous.
B22: Exigence | D22: Inclusion | F22: Source/unités | H22: Commentaires/Notes
B23: Exigence ITIE 2.1 : Cadre légal et régime fiscal
B24: Le gouvernement publie-t-il des informations concernant
B25: Les lois et réglementations ? | D25: Oui, divulgation systématique | F25: 3.1.2.b. Cadre légal du secteur pétrolier 3.2.3.a. Cadre légal et fiscal du secteur minier Publication de ses informations dans les sites ci-dessous: 1- http//www.droit-afrique.com/upload/doc/tchad/Tchad-Code-2007-hydrocarbures-MAJ-2010.pdf 2- https://www.a-mla.org/images/acts/cgi_2016_Tchad.pdf.pdf 3- http://itie-tchad.org/les-decrets-dans-le-secteur-des-hydrocarbures-au-tchad/ 4- http://www.droit-afrique.com/upload/doc/tchad/Tchad-Loi-1999-01-gestion-des-revenus-petroliers.pdf 5- http//extwprlegs1.fao.org/docs/pdf/cha161463.pdf 6- http://www.droit-afrique.com/upload/doc/tchad/Tchad-Code-1995-minier.pdf 7- https://finances.gouv.td/index.php/publications/lois-des-finances 8- http://itie-tchad.org/le-nouveau-code-minier-du-tchad-juin-2018/ | H25: La couverture du régime juridique et fiscal sur les sources publiques est complète, mais s'étend sur plusieurs sources. L'information sur ces sources est tenue à jour. Les informations disponibles répondent aux exigences de l'ITIE.
B26: Vue d’ensemble des rôles des agences gouvernementales ? | D26: Oui, à travers le rapportage ITIE | F26: 3.2.1.a Cadre Institutionnel du secteur pétrolier 3.2.3.b Cadre Institutionnel du secteur minier
B27: Régime des droits pétroliers et miniers? | D27: Oui, à travers le rapportage ITIE | F27: 3.1.4. Gestion des permis pétroliers 3.2.3.a. Types des titres et autorisations minières
B28: Régime fiscal ? | D28: Oui, à travers le rapportage ITIE | F28: 3.1.2.c. Cadre fiscal du secteur pétrolier 3.2.3.a. Cadre légal et fiscal du secteur minier
B30: Exigence ITIE 2.2: Octroi des contrats et licences
B31: Le gouvernement publie-t-il des informations concernant
B32: le processus d’octroi des licences ? | D32: Oui, divulgation systématique | F32: 3.1.5. Attribution et gestion des titres et des contrats (Secteur pétrolier) - Modalités et conditions d’octroi des permis pétrolier : 1- La loi relative aux hydrocarbures : http//www.droit-afrique.com/upload/doc/tchad/Tchad-Code-2007-hydrocarbures-MAJ-2010.pdf 2- Décret d’application de la loi relative aux hydrocarbures : http://extwprlegs1.fao.org/docs/pdf/cha161463.pdf 3.2.3. Titres et autorisations minières (secteur Minier) - Modalités et conditions d’octroi des permis miniers : 1- Code Minier de 1995 : http://www.droit-afrique.com/upload/doc/tchad/Tchad-Code-1995-minier.pdf 2- Nouveau code minier de 2018 : http://itie-tchad.org/le-nouveau-code-minier-du-tchad-juin-2018/ | H32: - Les modalités et conditions d'octroi des permis pétrolier sont présentées au niveau de la loi relative aux hydrocarbures ainsi que sont décret d'application. - Les modalités et conditions d'octroi des permis miniers sont présentées au niveau des codes minier de 1995 et de 2018.
B33: et les critères techniques et financiers utilisés ? | D33: Oui, à travers le rapportage ITIE | F33: 3.1.5. Attribution et gestion des titres et des contrats (Secteur des hydrocarbures) 3.2.3. Titres et autorisations minières (secteur Minier) | H33: Les critères techniques et finanicères ne sont pas renseignés au niveau des procédures d'octroi des permis pétroliers et minier. Toutefois, les conditions à remplir par les demandeurs pour la justification des capacités techniques et financières selon la pratique sont présentées au niveau des sections 3.1.5 et 3.2.3 du rapport ITIE Tchad 2017.
B34: le(s) processus de transfert de licences ? | D34: Oui, à travers le rapportage ITIE | F34: 3.1.5. Attribution et gestion des titres et des contrats (Secteur des hydrocarbures) 3.2.3. Titres et autorisations minières (secteur Minier)
B35: et les critères techniques et financiers utilisés ? | D35: Oui, à travers le rapportage ITIE | F35: 3.1.5. Attribution et gestion des titres et des contrats (Secteur des hydrocarbures) 3.2.3. Titres et autorisations minières (secteur Minier)
B36: processus d’appel d’offres : | D36: Oui, à travers le rapportage ITIE | F36: 3.1.5. Attribution et gestion des titres et des contrats (Secteur des hydrocarbures) 3.2.3. Titres et autorisations minières (secteur Minier)
B37: Nombre d’octrois et de transferts pour l’exercice couvert | D37: 1 Permis d'exploitation (Secteur pétrolier) 1 Renouvellement Permis d'exploitation (Secteur pétrolier) 2 Permis de recherche (secteur pétrolier) 2 Autorisations minières | F37: 3.1.5. Attribution et gestion des titres et des contrats (Secteur des hydrocarbures) 3.2.3. Titres et autorisations minières (secteur Minier) + Annexe 11 du rapport.
B39: Exigence ITIE 2.3: Registre des licences
B40: Registres des licences pour le secteur minier | D40: Oui, à travers le rapportage ITIE | F40: 3.2.4. Registre des titres miniers Annexe 10 : Liste des permis miniers | H40: Le Tchad ne dispose pas encore d’un cadastre minier (en cours de réalisation). La gestion des titres miniers est assurée par la Direction Génréale Technique des Mines (DGTM). Cette gestion se fait sur un document électronique dont une copie nous a été fournie et figure dans l’Annexe 10 du présent rapport.
B41: Registre des licences pour le secteur pétrolier | D41: Oui, divulgation systématique | F41: 3.1.4. Gestion des permis pétroliers Annexe 8 : Liste des permis pétroliers d'exploitation Annexe 9 : Liste des permis pétroliers de recherche Mini-cadatre pérolier : http://itie-tchad.org/mini-cadastre/ | H41: Le Tchad ne dispose pas encore d’un cadastre pétrolier (en cours de réalisation). La gestion des titres pétroliers est assurée par la Direction Génréale Technique du Pétrole (DGTP). Cette gestion se fait sur un document électronique intitulé mini-cadastre pétrolier, publié par le gouvernement sur le site de l’ITIE Tchad.
B42: Registre des licences pour tout autre secteur - ajouter des lignes au besoin | D42: Sans objet. | F42: NA
B44: Exigence ITIE 2.4: Divulgation des contrats
B45: Politique sur la divulgation des contrats | D45: Oui, à travers le rapportage ITIE | F45: 3.1.6. Politique en matière de publication des contrats (Secteur pétrolier) 3.2.5. Politique en matière de publication des contrats (Secteur Minier)
B46: Les contrats sont-ils divulgués ? | D46: Oui, divulgation systématique | F46: - Secteur Pétrolier : http://itie-tchad.org/mini-cadastre/ - Secteri Minier : http://itie-tchad.org/toutes-les-conventions-dexploitation-miniere-et-carriere-au-tchad/ | H46: Tous les contrats pétroliers sont publiées au niveau du mini-cadastre pétrolier, publié sur le site de l’ITIE Tchad. Parmi les 60 permis miniers valide au 31 décembre 2017, uniquement 25 contrats ont été publiés sur le site de l’ITIE Tchad. Le détail des permis miniers (publié/non publié) est présenté dans l’Annexe 10 du rapport ITIE Tchad 2017.
B47: Registre des contrats pour le secteur minier | D47: Oui, à travers le rapportage ITIE | F47: 3.2.4. Registre des titres miniers Annexe 10 : Liste des permis miniers | H47: Le Tchad ne dispose pas encore d’un cadastre minier (en cours de réalisation). La gestion des titres miniers est assurée par la Direction Génréale Technique des Mines (DGTM). Cette gestion se fait sur un document électronique dont une copie nous a été fournie et figure dans l’Annexe 10 du du rapport ITIE Tchad 2017.
B48: Registre des contrats pour le secteur pétrolier | D48: Oui, divulgation systématique | F48: 3.1.4. Gestion des permis pétroliers Mini-cadatre pérolier : http://itie-tchad.org/mini-cadastre/ | H48: Le Tchad ne dispose pas encore d’un cadastre pétrolier (en cours de réalisation). La gestion des titres pétroliers est assurée par la Direction Génréale Technique du Pétrole (DGTP). Cette gestion se fait sur un document électronique intitulé mini-cadastre pétrolier, publié par le gouvernement sur le site de l’ITIE Tchad.
B49: Registre des contrats pour tout autre secteur - ajouter des ligne s’il y en a plusieurs | D49: Sans objet. | F49: NA
B51: Exigence ITIE 2.5: Propriété réelle
B52: Politique du gouvernement concernant la propriété réelle | D52: Oui, à travers le rapportage ITIE | F52: 3.7.1. Cadre juridique de la propriété réelle au Tchad 3.7.2. Définition de la propriété réelle
...

Sheet Partie 3 - Entités déclarantes
E3: Modèle de données résumées
E4: =Introduction!G4 -> AAAA-MM-JJ
B8: Partie 3 (Entités déclarantes) Elle énumère les entités déclarantes (entités de l’État, entreprises et projets) et fournit des informations y afférentes.
B9: Comment remplir cette feuille :
B10: 1. Veuillez commencer par la première case (liste des entités déclarantes de l’État), en indiquant le nom de chacune d’elles
B11: 2. Remplissez la ligne des identifiants d’entreprise Des orientations vous seront données dans les cases jaunes lorsque la cellule est mise en évidence
B12: 3. Remplissez la liste des entreprises déclarantes, commençant par la première colonne, « Nom complet de l’entreprise » Remplissez en suivant les instructions, complétant chaque colonne sur chaque ligne avant de commencer la ligne suivante.
B13: 4. Remplissez la liste des Projets à déclarer, commençant par la première colonne, « Nom complet du projet »
B14: Si vous avez des questions, veuillez contacter data@eiti.org
B16: Partie 3 - Entités déclarantes
B17: Veuillez fournir une liste de toutes les entités déclarantes, accompagnée de l’information y afférente
B19: Liste des entités de l’État déclarantes
B20: Nom complet de l’entité | C20: Type d'Agence | D20: N° d’identifiant (le cas échéant) | E20: Total déclaré
B21: Direction Générale du Trésor et de la Comptabilité Publique (DGTCP) | C21: Administration centrale | D21: Non applicable | E21: =SUMIF(Government_revenues_table[Entité de l’État],Government_agencies[[#This Row],[Nom complet de l’entité]],Government_revenues_table[Valeur des revenus]) -> 3.1694934e+08
B22: Société des Hydrocarbures du Tchad (SHT) | C22: Société publique financière et Entreprise d'Etat | D22: Non applicable | E22: =SUMIF(Government_revenues_table[Entité de l’État],Government_agencies[[#This Row],[Nom complet de l’entité]],Government_revenues_table[Valeur des revenus]) -> 6.8065056e+08
B23: Direction Générale Technique de Pétrole (DGTP) | C23: Administration centrale | D23: Non applicable | E23: =SUMIF(Government_revenues_table[Entité de l’État],Government_agencies[[#This Row],[Nom complet de l’entité]],Government_revenues_table[Valeur des revenus]) -> 5440559
B24: Direction Générale Technique des Mines (DGTM) | C24: Administration centrale | D24: Non applicable | E24: =SUMIF(Government_revenues_table[Entité de l’État],Government_agencies[[#This Row],[Nom complet de l’entité]],Government_revenues_table[Valeur des revenus]) -> 96283
B25: Direction Générale des Services de Douanes et des Droits Indirects (DGSDDI) | C25: Administration centrale | D25: Non applicable | E25: =SUMIF(Government_revenues_table[Entité de l’État],Government_agencies[[#This Row],[Nom complet de l’entité]],Government_revenues_table[Valeur des revenus]) -> 0
B26: Caisse Nationale de Prévoyance Sociale (CNPS) | C26: Administration centrale | D26: Non applicable | E26: =SUMIF(Government_revenues_table[Entité de l’État],Government_agencies[[#This Row],[Nom complet de l’entité]],Government_revenues_table[Valeur des revenus]) -> 0
B27: Autorité de Régulation du Secteur pétrolier Aval du Tchad (ARSAT) | C27: Administration centrale | D27: Non applicable | E27: =SUMIF(Government_revenues_table[Entité de l’État],Government_agencies[[#This Row],[Nom complet de l’entité]],Government_revenues_table[Valeur des revenus]) -> 0
B28: Société Nationale des Mines et de la Géologie (SONAMIG) | C28: Société publique financière et Entreprise d'Etat | D28: Non applicable | E28: =SUMIF(Government_revenues_table[Entité de l’État],Government_agencies[[#This Row],[Nom complet de l’entité]],Government_revenues_table[Valeur des revenus]) -> 0
B29: Ministère des Finances | C29: Administration centrale | D29: Non applicable | E29: =SUMIF(Government_revenues_table[Entité de l’État],Government_agencies[[#This Row],[Nom complet de l’entité]],Government_revenues_table[Valeur des revenus]) -> 0
B30: Commune de Doba | C30: Administration locale | D30: Non applicable | E30: =SUMIF(Government_revenues_table[Entité de l’État],Government_agencies[[#This Row],[Nom complet de l’entité]],Government_revenues_table[Valeur des revenus]) -> 0
B31: Commune de Koudalwa | C31: Administration locale | D31: Non applicable | E31: =SUMIF(Government_revenues_table[Entité de l’État],Government_agencies[[#This Row],[Nom complet de l’entité]],Government_revenues_table[Valeur des revenus]) -> 0
B36: Liste des entreprises déclarantes
B37: Identifiants d’entreprise
B38: Identifiant Fiscal Unique (IFU) | C38: Mini-cadastre pétrolier publié sur le site de l'ITIE Tchad, Liste des permis miniers communiquée par la DGTM | D38: http://itie-tchad.org/mini-cadastre/
B40: Nom complet de l’entreprise | C40: Type d'entreprise | D40: Identifiant de l’entreprise | E40: Secteur | F40: Matières premières (séparation par virgule) | G40: Cotation boursière ou site Internet d’entreprise | H40: Rapport financier audité (si indisponible, bilan comptable ou flux de trésorerie…) | I40: Rapport de paiements à l’État
B41: SHT | C41: Société publique financière et Entreprise d'Etat | D41: 600006476 | E41: Pétrole | F41: Pétrole | G41: https://sht-tchad.com/fr/ | H41: https://sht-tchad.com/fr/index.php/rapports-etats-financiers/rapports# | I41: =SUMIF(Table10[Entreprise],Companies[[#This Row],[Nom complet de l’entreprise]],Table10[Valeur de revenus]) -> 2023
B42: SHT PCCL | C42: Société publique financière et Entreprise d'Etat | D42: Non communiqué | E42: Pétrole | F42: Pétrole | G42: Non disponible | H42: Non disponible | I42: =SUMIF(Table10[Entreprise],Companies[[#This Row],[Nom complet de l’entreprise]],Table10[Valeur de revenus]) -> 0
B43: Esso | C43: Privée | D43: 600002755 | E43: Pétrole | F43: Pétrole | G43: https://www.boursedirect.fr/fr/marche/new-york-stock-exchange-inc/exxon-mobil-corporation-XOM-USD-XNYS/societe | H43: Non disponible | I43: =SUMIF(Table10[Entreprise],Companies[[#This Row],[Nom complet de l’entreprise]],Table10[Valeur de revenus]) -> 100752316
B44: Petronas | C44: Privée | D44: Non communiqué | E44: Pétrole | F44: Pétrole | G44: https://www.petronas.com/ | H44: Non disponible | I44: =SUMIF(Table10[Entreprise],Companies[[#This Row],[Nom complet de l’entreprise]],Table10[Valeur de revenus]) -> 163408557
B45: CNPC | C45: Privée | D45: Non communiqué | E45: Pétrole | F45: Pétrole | G45: http://www.cnpc.com.cn/en/ | H45: Non disponible | I45: =SUMIF(Table10[Entreprise],Companies[[#This Row],[Nom complet de l’entreprise]],Table10[Valeur de revenus]) -> 5706731
B46: Cliveden Petroleum | C46: Privée | D46: Non communiqué | E46: Pétrole | F46: Pétrole | G46: Non disponible | H46: Non disponible | I46: =SUMIF(Table10[Entreprise],Companies[[#This Row],[Nom complet de l’entreprise]],Table10[Valeur de revenus]) -> 0
B47: Petrochad Mangara | C47: Privée | D47: 600006939 | E47: Pétrole | F47: Pétrole | G47: https://www.glencore.com/ | H47: Non disponible | I47: =SUMIF(Table10[Entreprise],Companies[[#This Row],[Nom complet de l’entreprise]],Table10[Valeur de revenus]) -> 2305420
B48: Griffiths Energy DOH | C48: Privée | D48: 600006886 | E48: Pétrole | F48: Pétrole | G48: https://investir.lesechos.fr/cours/action-glencore-plc-ord-usd001,xlon,je00b4t3bw64,glen,tick.html | H48: Non disponible | I48: =SUMIF(Table10[Entreprise],Companies[[#This Row],[Nom complet de l’entreprise]],Table10[Valeur de revenus]) -> 2908759
B49: Griffiths Energy CHAD | C49: Privée | D49: 600006555 | E49: Pétrole | F49: Pétrole | G49: https://investir.lesechos.fr/cours/action-glencore-plc-ord-usd001,xlon,je00b4t3bw64,glen,tick.html | H49: Non disponible | I49: =SUMIF(Table10[Entreprise],Companies[[#This Row],[Nom complet de l’entreprise]],Table10[Valeur de revenus]) -> 834029
B50: Glencore Exploration (Doséo/Borogop) | C50: Privée | D50: Non communiqué | E50: Pétrole | F50: Pétrole | G50: https://investir.lesechos.fr/cours/action-glencore-plc-ord-usd001,xlon,je00b4t3bw64,glen,tick.html | H50: Non disponible | I50: =SUMIF(Table10[Entreprise],Companies[[#This Row],[Nom complet de l’entreprise]],Table10[Valeur de revenus]) -> 0
B51: Glencore Exploration (DOB/DOI) | C51: Privée | D51: Non communiqué | E51: Pétrole | F51: Pétrole | G51: https://investir.lesechos.fr/cours/action-glencore-plc-ord-usd001,xlon,je00b4t3bw64,glen,tick.html | H51: Non disponible | I51: =SUMIF(Table10[Entreprise],Companies[[#This Row],[Nom complet de l’entreprise]],Table10[Valeur de revenus]) -> 0
B52: Glencore Energy UK Limited | C52: Privée | D52: Non communiqué | E52: Pétrole | F52: Pétrole | G52: https://investir.lesechos.fr/cours/action-glencore-plc-ord-usd001,xlon,je00b4t3bw64,glen,tick.html | H52: Non disponible | I52: =SUMIF(Table10[Entreprise],Companies[[#This Row],[Nom complet de l’entreprise]],Table10[Valeur de revenus]) -> 4.9325056e+08
...

Sheet Partie 4 - Recettes de l’État
N3: Modèle de données résumées
N4: =Introduction!G4 -> AAAA-MM-JJ
F8: Partie 4 (Recettes de l’État) Elle contient des données exhaustives sur les revenus de l’État par flux de revenu, en utilisant la classification SFP.
F9: Comment remplir cette feuille :
F10: 1. Inscrivez le nom de tous les flux de revenus de l’État pour le secteur extractif, y compris les flux inférieurs aux seuils de matérialité convenus (utiliser une ligne pour chaque flux de revenus et pour chaque entité de l’État)
F11: 2. Inscrivez le nom de l’entité de l’État percevant les revenus (sélectionnez celle-ci sur la liste déroulante) Elle y figurera parce que vous aurez déjà inscrit l’entité de l’État à la Partie 3).
F12: 3. Choisissez le Secteur et la Classification SFP auxquels ce flux de revenus s’applique. Consultez les orientations fournies dans le Cadre SFP pour le rapportage ITIE. Si un flux de revenus ne peut être désagrégé par secteur, sélectionnez « Autre ».
F13: 4. Dans la colonne Valeur des revenus inscrivez le chiffre total de chaque flux de revenus tel que divulgué par le gouvernement, qui inclut également les revenus qui n’ont pas été rapprochés.
F14: Nota : Les paiements versés par les entreprises aux gouvernements au nom de leurs employés doivent être exclus (par exemple, l’impôt sur le revenu des particuliers / impôts retenus à la source, cotisations des employés pour la sécurité sociale) car ils ne sont pas considérés comme étant des paiements par des entreprises au gouvernement.
F15: 5. Si des paiements sont recensés dans le Rapport ITIE mais ne correspondent pas aux catégories SFP, veuillez les lister dans la case ci-dessous dénommée « Informations supplémentaires ».
F16: Si vous avez des questions, veuillez contacter data@eiti.org
F18: Total des recettes de l’État provenant du secteur extractif (utilisant la classification SFP) | M18: Cadre SFP pour le rapportage ITIE
M19: Exigence ITIE 5.1.b: Classification des revenus
F20: Exigence ITIE 4.1.d: Divulgation exhaustive de la part du gouvernement
B21: GFS Niveau 1 | C21: GFS Niveau 2 | D21: GFS Niveau 3 | E21: GFS Niveau 4 | F21: Classification SFP | G21: Secteur | H21: Nom du flux de revenus | I21: Entité de l’État | J21: Valeur des revenus | K21: Devise | M21: En quoi consiste le SFP ?
B22: =IFERROR(VLOOKUP(Government_revenues_table[[#This Row],[Classification SFP]],Table6_GFS_codes_classification[],COLUMNS($F:F)+3,FALSE),"Do not enter data") -> Impôts (11E) | C22: =IFERROR(VLOOKUP(Government_revenues_table[[#This Row],[Classification SFP]],Table6_GFS_codes_classification[],COLUMNS($F:G)+3,FALSE),"Do not enter data") -> Impôts sur le revenu, le bénéfice et les plus-values | D22: =IFERROR(VLOOKUP(Government_revenues_table[[#This Row],[Classification SFP]],Table6_GFS_codes_classification[],COLUMNS($F:H)+3,FALSE),"Do not enter data") -> Impôts ordinaires sur le revenu, le bénéfice et les plus-values (1112E1) | E22: =IFERROR(VLOOKUP(Government_revenues_table[[#This Row],[Classification SFP]],Table6_GFS_codes_classification[],COLUMNS($F:I)+3,FALSE),"Do not enter data") -> Impôts ordinaires sur le revenu, le bénéfice et les plus-values (1112E1) | F22: Impôts ordinaires sur le revenu, le bénéfice et les plus-values (1112E1) | G22: Pétrole | H22: Impôt direct sur les bénéfices | I22: Direction Générale du Trésor et de la Comptabilité Publique (DGTCP) | J22: 125948874 | K22: USD | M22: SFP, sigle pour «Statistiques de Finances Publiques », est un cadre international pour la classification des flux de revenus afin de les rendre comparables d’un pays et d’une période à l’autre. Voir l’exemple de cadre complet ci-dessous. Le cadre utilisé ci-dessous a été élaboré par le FMI et le Secrétariat international de l’ITIE. Les chiffres à droite ont été spécifiquement conçus pour les entreprises du secteur extractif La lettre E dans la colonne des codes SFP signifie que ce sont les codes utilisés pour les revenus issus des entreprises extractives. Les chiffres situés à gauche de la lettre E sont les codes SFP réguliers.
B23: =IFERROR(VLOOKUP(Government_revenues_table[[#This Row],[Classification SFP]],Table6_GFS_codes_classification[],COLUMNS($F:F)+3,FALSE),"Do not enter data") -> Impôts (11E) | C23: =IFERROR(VLOOKUP(Government_revenues_table[[#This Row],[Classification SFP]],Table6_GFS_codes_classification[],COLUMNS($F:G)+3,FALSE),"Do not enter data") -> Impôts sur le revenu, le bénéfice et les plus-values | D23: =IFERROR(VLOOKUP(Government_revenues_table[[#This Row],[Classification SFP]],Table6_GFS_codes_classification[],COLUMNS($F:H)+3,FALSE),"Do not enter data") -> Impôts ordinaires sur le revenu, le bénéfice et les plus-values (1112E1) | E23: =IFERROR(VLOOKUP(Government_revenues_table[[#This Row],[Classification SFP]],Table6_GFS_codes_classification[],COLUMNS($F:I)+3,FALSE),"Do not enter data") -> Impôts ordinaires sur le revenu, le bénéfice et les plus-values (1112E1) | F23: Impôts ordinaires sur le revenu, le bénéfice et les plus-values (1112E1) | G23: Autres | H23: Impôt direct sur les bénéfices | I23: Direction Générale du Trésor et de la Comptabilité Publique (DGTCP) | J23: 2521564.2 | K23: USD
B24: =IFERROR(VLOOKUP(Government_revenues_table[[#This Row],[Classification SFP]],Table6_GFS_codes_classification[],COLUMNS($F:F)+3,FALSE),"Do not enter data") -> Impôts (11E) | C24: =IFERROR(VLOOKUP(Government_revenues_table[[#This Row],[Classification SFP]],Table6_GFS_codes_classification[],COLUMNS($F:G)+3,FALSE),"Do not enter data") -> Impôts sur le revenu, le bénéfice et les plus-values | D24: =IFERROR(VLOOKUP(Government_revenues_table[[#This Row],[Classification SFP]],Table6_GFS_codes_classification[],COLUMNS($F:H)+3,FALSE),"Do not enter data") -> Impôts ordinaires sur le revenu, le bénéfice et les plus-values (1112E1) | E24: =IFERROR(VLOOKUP(Government_revenues_table[[#This Row],[Classification SFP]],Table6_GFS_codes_classification[],COLUMNS($F:I)+3,FALSE),"Do not enter data") -> Impôts ordinaires sur le revenu, le bénéfice et les plus-values (1112E1) | F24: Impôts ordinaires sur le revenu, le bénéfice et les plus-values (1112E1) | G24: Pétrole | H24: Autres paiements significatifs | I24: Direction Générale du Trésor et de la Comptabilité Publique (DGTCP) | J24: 124974879 | K24: USD
B25: =IFERROR(VLOOKUP(Government_revenues_table[[#This Row],[Classification SFP]],Table6_GFS_codes_classification[],COLUMNS($F:F)+3,FALSE),"Do not enter data") -> Impôts (11E) | C25: =IFERROR(VLOOKUP(Government_revenues_table[[#This Row],[Classification SFP]],Table6_GFS_codes_classification[],COLUMNS($F:G)+3,FALSE),"Do not enter data") -> Impôts sur le revenu, le bénéfice et les plus-values | D25: =IFERROR(VLOOKUP(Government_revenues_table[[#This Row],[Classification SFP]],Table6_GFS_codes_classification[],COLUMNS($F:H)+3,FALSE),"Do not enter data") -> Impôts ordinaires sur le revenu, le bénéfice et les plus-values (1112E1) | E25: =IFERROR(VLOOKUP(Government_revenues_table[[#This Row],[Classification SFP]],Table6_GFS_codes_classification[],COLUMNS($F:I)+3,FALSE),"Do not enter data") -> Impôts ordinaires sur le revenu, le bénéfice et les plus-values (1112E1) | F25: Impôts ordinaires sur le revenu, le bénéfice et les plus-values (1112E1) | G25: Minier | H25: Autres paiements significatifs | I25: Direction Générale du Trésor et de la Comptabilité Publique (DGTCP) | J25: 73806 | K25: USD
B26: =IFERROR(VLOOKUP(Government_revenues_table[[#This Row],[Classification SFP]],Table6_GFS_codes_classification[],COLUMNS($F:F)+3,FALSE),"Do not enter data") -> Impôts (11E) | C26: =IFERROR(VLOOKUP(Government_revenues_table[[#This Row],[Classification SFP]],Table6_GFS_codes_classification[],COLUMNS($F:G)+3,FALSE),"Do not enter data") -> Impôts sur le revenu, le bénéfice et les plus-values | D26: =IFERROR(VLOOKUP(Government_revenues_table[[#This Row],[Classification SFP]],Table6_GFS_codes_classification[],COLUMNS($F:H)+3,FALSE),"Do not enter data") -> Impôts ordinaires sur le revenu, le bénéfice et les plus-values (1112E1) | E26: =IFERROR(VLOOKUP(Government_revenues_table[[#This Row],[Classification SFP]],Table6_GFS_codes_classification[],COLUMNS($F:I)+3,FALSE),"Do not enter data") -> Impôts ordinaires sur le revenu, le bénéfice et les plus-values (1112E1) | F26: Impôts ordinaires sur le revenu, le bénéfice et les plus-values (1112E1) | G26: Autres | H26: Autres paiements significatifs | I26: Direction Générale du Trésor et de la Comptabilité Publique (DGTCP) | J26: 8755775 | K26: USD
B27: =IFERROR(VLOOKUP(Government_revenues_table[[#This Row],[Classification SFP]],Table6_GFS_codes_classification[],COLUMNS($F:F)+3,FALSE),"Do not enter data") -> Impôts (11E) | C27: =IFERROR(VLOOKUP(Government_revenues_table[[#This Row],[Classification SFP]],Table6_GFS_codes_classification[],COLUMNS($F:G)+3,FALSE),"Do not enter data") -> Impôts sur le revenu, le bénéfice et les plus-values | D27: =IFERROR(VLOOKUP(Government_revenues_table[[#This Row],[Classification SFP]],Table6_GFS_codes_classification[],COLUMNS($F:H)+3,FALSE),"Do not enter data") -> Impôts ordinaires sur le revenu, le bénéfice et les plus-values (1112E1) | E27: =IFERROR(VLOOKUP(Government_revenues_table[[#This Row],[Classification SFP]],Table6_GFS_codes_classification[],COLUMNS($F:I)+3,FALSE),"Do not enter data") -> Impôts ordinaires sur le revenu, le bénéfice et les plus-values (1112E1) | F27: Impôts ordinaires sur le revenu, le bénéfice et les plus-values (1112E1) | G27: Sans objet | H27: Taxe foncière | I27: Direction Générale du Trésor et de la Comptabilité Publique (DGTCP) | J27: 0 | K27: USD | M27: Pour plus d’orientations, visitez la page https://eiti.org/fr/document/modele-donnees-resumees-itie
B28: =IFERROR(VLOOKUP(Government_revenues_table[[#This Row],[Classification SFP]],Table6_GFS_codes_classification[],COLUMNS($F:F)+3,FALSE),"Do not enter data") -> Impôts (11E) | C28: =IFERROR(VLOOKUP(Government_revenues_table[[#This Row],[Classification SFP]],Table6_GFS_codes_classification[],COLUMNS($F:G)+3,FALSE),"Do not enter data") -> Impôts sur le revenu, le bénéfice et les plus-values | D28: =IFERROR(VLOOKUP(Government_revenues_table[[#This Row],[Classification SFP]],Table6_GFS_codes_classification[],COLUMNS($F:H)+3,FALSE),"Do not enter data") -> Impôts ordinaires sur le revenu, le bénéfice et les plus-values (1112E1) | E28: =IFERROR(VLOOKUP(Government_revenues_table[[#This Row],[Classification SFP]],Table6_GFS_codes_classification[],COLUMNS($F:I)+3,FALSE),"Do not enter data") -> Impôts ordinaires sur le revenu, le bénéfice et les plus-values (1112E1) | F28: Impôts ordinaires sur le revenu, le bénéfice et les plus-values (1112E1) | G28: Sans objet | H28: Taxe sur cession d’actif | I28: Direction Générale du Trésor et de la Comptabilité Publique (DGTCP) | J28: 0 | K28: USD | M28: ou https://www.imf.org/external/pubs/ft/gfs/manual/pdf/2014companion/FrenchGFSM.pdf
B29: =IFERROR(VLOOKUP(Government_revenues_table[[#This Row],[Classification SFP]],Table6_GFS_codes_classification[],COLUMNS($F:F)+3,FALSE),"Do not enter data") -> Impôts (11E) | C29: =IFERROR(VLOOKUP(Government_revenues_table[[#This Row],[Classification SFP]],Table6_GFS_codes_classification[],COLUMNS($F:G)+3,FALSE),"Do not enter data") -> Impôts sur le revenu, le bénéfice et les plus-values | D29: =IFERROR(VLOOKUP(Government_revenues_table[[#This Row],[Classification SFP]],Table6_GFS_codes_classification[],COLUMNS($F:H)+3,FALSE),"Do not enter data") -> Impôts ordinaires sur le revenu, le bénéfice et les plus-values (1112E1) | E29: =IFERROR(VLOOKUP(Government_revenues_table[[#This Row],[Classification SFP]],Table6_GFS_codes_classification[],COLUMNS($F:I)+3,FALSE),"Do not enter data") -> Impôts ordinaires sur le revenu, le bénéfice et les plus-values (1112E1) | F29: Impôts ordinaires sur le revenu, le bénéfice et les plus-values (1112E1) | G29: Minier | H29: Retenue à la source (IRCM) | I29: Direction Générale du Trésor et de la Comptabilité Publique (DGTCP) | J29: 20006 | K29: USD
B30: =IFERROR(VLOOKUP(Government_revenues_table[[#This Row],[Classification SFP]],Table6_GFS_codes_classification[],COLUMNS($F:F)+3,FALSE),"Do not enter data") -> Impôts (11E) | C30: =IFERROR(VLOOKUP(Government_revenues_table[[#This Row],[Classification SFP]],Table6_GFS_codes_classification[],COLUMNS($F:G)+3,FALSE),"Do not enter data") -> Impôts sur le revenu, le bénéfice et les plus-values (111E) | D30: =IFERROR(VLOOKUP(Government_revenues_table[[#This Row],[Classification SFP]],Table6_GFS_codes_classification[],COLUMNS($F:H)+3,FALSE),"Do not enter data") -> Impôts extraordinaires sur le revenu, le bénéfice et les plus-values (1112E2) | E30: =IFERROR(VLOOKUP(Government_revenues_table[[#This Row],[Classification SFP]],Table6_GFS_codes_classification[],COLUMNS($F:I)+3,FALSE),"Do not enter data") -> Impôts extraordinaires sur le revenu, le bénéfice et les plus-values (1112E2) | F30: Impôts extraordinaires sur le revenu, le bénéfice et les plus-values (1112E2) | G30: Pétrole | H30: Redressements fiscaux | I30: Direction Générale du Trésor et de la Comptabilité Publique (DGTCP) | J30: 3619564 | K30: USD
B31: =IFERROR(VLOOKUP(Government_revenues_table[[#This Row],[Classification SFP]],Table6_GFS_codes_classification[],COLUMNS($F:F)+3,FALSE),"Do not enter data") -> Impôts (11E) | C31: =IFERROR(VLOOKUP(Government_revenues_table[[#This Row],[Classification SFP]],Table6_GFS_codes_classification[],COLUMNS($F:G)+3,FALSE),"Do not enter data") -> Impôts sur le revenu, le bénéfice et les plus-values (111E) | D31: =IFERROR(VLOOKUP(Government_revenues_table[[#This Row],[Classification SFP]],Table6_GFS_codes_classification[],COLUMNS($F:H)+3,FALSE),"Do not enter data") -> Impôts extraordinaires sur le revenu, le bénéfice et les plus-values (1112E2) | E31: =IFERROR(VLOOKUP(Government_revenues_table[[#This Row],[Classification SFP]],Table6_GFS_codes_classification[],COLUMNS($F:I)+3,FALSE),"Do not enter data") -> Impôts extraordinaires sur le revenu, le bénéfice et les plus-values (1112E2) | F31: Impôts extraordinaires sur le revenu, le bénéfice et les plus-values (1112E2) | G31: Minier | H31: Redressements fiscaux | I31: Direction Générale du Trésor et de la Comptabilité Publique (DGTCP) | J31: 29506 | K31: USD
B32: =IFERROR(VLOOKUP(Government_revenues_table[[#This Row],[Classification SFP]],Table6_GFS_codes_classification[],COLUMNS($F:F)+3,FALSE),"Do not enter data") -> Impôts (11E) | C32: =IFERROR(VLOOKUP(Government_revenues_table[[#This Row],[Classification SFP]],Table6_GFS_codes_classification[],COLUMNS($F:G)+3,FALSE),"Do not enter data") -> Impôts sur le revenu, le bénéfice et les plus-values (111E) | D32: =IFERROR(VLOOKUP(Government_revenues_table[[#This Row],[Classification SFP]],Table6_GFS_codes_classification[],COLUMNS($F:H)+3,FALSE),"Do not enter data") -> Impôts extraordinaires sur le revenu, le bénéfice et les plus-values (1112E2) | E32: =IFERROR(VLOOKUP(Government_revenues_table[[#This Row],[Classification SFP]],Table6_GFS_codes_classification[],COLUMNS($F:I)+3,FALSE),"Do not enter data") -> Impôts extraordinaires sur le revenu, le bénéfice et les plus-values (1112E2) | F32: Impôts extraordinaires sur le revenu, le bénéfice et les plus-values (1112E2) | G32: Autres | H32: Redressements fiscaux | I32: Direction Générale du Trésor et de la Comptabilité Publique (DGTCP) | J32: 509006 | K32: USD
B33: =IFERROR(VLOOKUP(Government_revenues_table[[#This Row],[Classification SFP]],Table6_GFS_codes_classification[],COLUMNS($F:F)+3,FALSE),"Do not enter data") -> Impôts (11E) | C33: =IFERROR(VLOOKUP(Government_revenues_table[[#This Row],[Classification SFP]],Table6_GFS_codes_classification[],COLUMNS($F:G)+3,FALSE),"Do not enter data") -> Impôts sur le revenu, le bénéfice et les plus-values (111E) | D33: =IFERROR(VLOOKUP(Government_revenues_table[[#This Row],[Classification SFP]],Table6_GFS_codes_classification[],COLUMNS($F:H)+3,FALSE),"Do not enter data") -> Impôts extraordinaires sur le revenu, le bénéfice et les plus-values (1112E2) | E33: =IFERROR(VLOOKUP(Government_revenues_table[[#This Row],[Classification SFP]],Table6_GFS_codes_classification[],COLUMNS($F:I)+3,FALSE),"Do not enter data") -> Impôts extraordinaires sur le revenu, le bénéfice et les plus-values (1112E2) | F33: Impôts extraordinaires sur le revenu, le bénéfice et les plus-values (1112E2) | G33: Pétrole | H33: Prélèvement sur les plus-values de cession | I33: Direction Générale du Trésor et de la Comptabilité Publique (DGTCP) | J33: 0 | K33: USD
B34: =IFERROR(VLOOKUP(Government_revenues_table[[#This Row],[Classification SFP]],Table6_GFS_codes_classification[],COLUMNS($F:F)+3,FALSE),"Do not enter data") -> Impôts (11E) | C34: =IFERROR(VLOOKUP(Government_revenues_table[[#This Row],[Classification SFP]],Table6_GFS_codes_classification[],COLUMNS($F:G)+3,FALSE),"Do not enter data") -> Impôts sur la masse salariale et la force de travail (112E) | D34: =IFERROR(VLOOKUP(Government_revenues_table[[#This Row],[Classification SFP]],Table6_GFS_codes_classification[],COLUMNS($F:H)+3,FALSE),"Do not enter data") -> Impôts sur la masse salariale et la force de travail (112E) | E34: =IFERROR(VLOOKUP(Government_revenues_table[[#This Row],[Classification SFP]],Table6_GFS_codes_classification[],COLUMNS($F:I)+3,FALSE),"Do not enter data") -> Impôts sur la masse salariale et la force de travail (112E) | F34: Impôts sur la masse salariale et la force de travail (112E) | G34: Pétrole | H34: Contribution à la formation du personnel du MPME | I34: Direction Générale Technique de Pétrole (DGTP) | J34: 4924546 | K34: USD
B35: =IFERROR(VLOOKUP(Government_revenues_table[[#This Row],[Classification SFP]],Table6_GFS_codes_classification[],COLUMNS($F:F)+3,FALSE),"Do not enter data") -> Impôts (11E) | C35: =IFERROR(VLOOKUP(Government_revenues_table[[#This Row],[Classification SFP]],Table6_GFS_codes_classification[],COLUMNS($F:G)+3,FALSE),"Do not enter data") -> Impôts sur la masse salariale et la force de travail (112E) | D35: =IFERROR(VLOOKUP(Government_revenues_table[[#This Row],[Classification SFP]],Table6_GFS_codes_classification[],COLUMNS($F:H)+3,FALSE),"Do not enter data") -> Impôts sur la masse salariale et la force de travail (112E) | E35: =IFERROR(VLOOKUP(Government_revenues_table[[#This Row],[Classification SFP]],Table6_GFS_codes_classification[],COLUMNS($F:I)+3,FALSE),"Do not enter data") -> Impôts sur la masse salariale et la force de travail (112E) | F35: Impôts sur la masse salariale et la force de travail (112E) | G35: Minier | H35: Contribution à la formation du personnel du MPME | I35: Direction Générale Technique des Mines (DGTM) | J35: 9895 | K35: USD
B36: =IFERROR(VLOOKUP(Government_revenues_table[[#This Row],[Classification SFP]],Table6_GFS_codes_classification[],COLUMNS($F:F)+3,FALSE),"Do not enter data") -> Impôts (11E) | C36: =IFERROR(VLOOKUP(Government_revenues_table[[#This Row],[Classification SFP]],Table6_GFS_codes_classification[],COLUMNS($F:G)+3,FALSE),"Do not enter data") -> Impôts sur la masse salariale et la force de travail (112E) | D36: =IFERROR(VLOOKUP(Government_revenues_table[[#This Row],[Classification SFP]],Table6_GFS_codes_classification[],COLUMNS($F:H)+3,FALSE),"Do not enter data") -> Impôts sur la masse salariale et la force de travail (112E) | E36: =IFERROR(VLOOKUP(Government_revenues_table[[#This Row],[Classification SFP]],Table6_GFS_codes_classification[],COLUMNS($F:I)+3,FALSE),"Do not enter data") -> Impôts sur la masse salariale et la force de travail (112E) | F36: Impôts sur la masse salariale et la force de travail (112E) | G36: Sans objet | H36: Taxe d'apprentissage et formation professionnelle | I36: Direction Générale du Trésor et de la Comptabilité Publique (DGTCP) | J36: 0 | K36: USD
B37: =IFERROR(VLOOKUP(Government_revenues_table[[#This Row],[Classification SFP]],Table6_GFS_codes_classification[],COLUMNS($F:F)+3,FALSE),"Do not enter data") -> Impôts (11E) | C37: =IFERROR(VLOOKUP(Government_revenues_table[[#This Row],[Classification SFP]],Table6_GFS_codes_classification[],COLUMNS($F:G)+3,FALSE),"Do not enter data") -> Impôts sur la masse salariale et la force de travail (112E) | D37: =IFERROR(VLOOKUP(Government_revenues_table[[#This Row],[Classification SFP]],Table6_GFS_codes_classification[],COLUMNS($F:H)+3,FALSE),"Do not enter data") -> Impôts sur la masse salariale et la force de travail (112E) | E37: =IFERROR(VLOOKUP(Government_revenues_table[[#This Row],[Classification SFP]],Table6_GFS_codes_classification[],COLUMNS($F:I)+3,FALSE),"Do not enter data") -> Impôts sur la masse salariale et la force de travail (112E) | F37: Impôts sur la masse salariale et la force de travail (112E) | G37: Sans objet | H37: Taxe forfaitaire | I37: Direction Générale du Trésor et de la Comptabilité Publique (DGTCP) | J37: 0 | K37: USD
B38: =IFERROR(VLOOKUP(Government_revenues_table[[#This Row],[Classification SFP]],Table6_GFS_codes_classification[],COLUMNS($F:F)+3,FALSE),"Do not enter data") -> Impôts (11E) | C38: =IFERROR(VLOOKUP(Government_revenues_table[[#This Row],[Classification SFP]],Table6_GFS_codes_classification[],COLUMNS($F:G)+3,FALSE),"Do not enter data") -> Impôts sur la propriété (113E) | D38: =IFERROR(VLOOKUP(Government_revenues_table[[#This Row],[Classification SFP]],Table6_GFS_codes_classification[],COLUMNS($F:H)+3,FALSE),"Do not enter data") -> Impôts sur la propriété (113E) | E38: =IFERROR(VLOOKUP(Government_revenues_table[[#This Row],[Classification SFP]],Table6_GFS_codes_classification[],COLUMNS($F:I)+3,FALSE),"Do not enter data") -> Impôts sur la propriété (113E) | F38: Impôts sur la propriété (113E) | G38: Pétrole | H38: Contribution de la patente | I38: Direction Générale du Trésor et de la Comptabilité Publique (DGTCP) | J38: 22 | K38: USD
B39: =IFERROR(VLOOKUP(Government_revenues_table[[#This Row],[Classification SFP]],Table6_GFS_codes_classification[],COLUMNS($F:F)+3,FALSE),"Do not enter data") -> Impôts (11E) | C39: =IFERROR(VLOOKUP(Government_revenues_table[[#This Row],[Classification SFP]],Table6_GFS_codes_classification[],COLUMNS($F:G)+3,FALSE),"Do not enter data") -> Impôts sur les biens et services (114E) | D39: =IFERROR(VLOOKUP(Government_revenues_table[[#This Row],[Classification SFP]],Table6_GFS_codes_classification[],COLUMNS($F:H)+3,FALSE),"Do not enter data") -> Impôts généraux sur les biens et services (TVA, taxes sur les ventes, taxes sur le chiffre d’affaires (1141E) | E39: =IFERROR(VLOOKUP(Government_revenues_table[[#This Row],[Classification SFP]],Table6_GFS_codes_classification[],COLUMNS($F:I)+3,FALSE),"Do not enter data") -> Impôts généraux sur les biens et services (TVA, taxes sur les ventes, taxes sur le chiffre d’affaires (1141E) | F39: Impôts généraux sur les biens et services (TVA, taxes sur les ventes, taxes sur le chiffre d’affaires)(1141E) | G39: Minier | H39: TVA | I39: Direction Générale du Trésor et de la Comptabilité Publique (DGTCP) | J39: 18119 | K39: USD
B40: =IFERROR(VLOOKUP(Government_revenues_table[[#This Row],[Classification SFP]],Table6_GFS_codes_classification[],COLUMNS($F:F)+3,FALSE),"Do not enter data") -> Impôts (11E) | C40: =IFERROR(VLOOKUP(Government_revenues_table[[#This Row],[Classification SFP]],Table6_GFS_codes_classification[],COLUMNS($F:G)+3,FALSE),"Do not enter data") -> Impôts sur les biens et services (114E) | D40: =IFERROR(VLOOKUP(Government_revenues_table[[#This Row],[Classification SFP]],Table6_GFS_codes_classification[],COLUMNS($F:H)+3,FALSE),"Do not enter data") -> Impôts généraux sur les biens et services (TVA, taxes sur les ventes, taxes sur le chiffre d’affaires (1141E) | E40: =IFERROR(VLOOKUP(Government_revenues_table[[#This Row],[Classification SFP]],Table6_GFS_codes_classification[],COLUMNS($F:I)+3,FALSE),"Do not enter data") -> Impôts généraux sur les biens et services (TVA, taxes sur les ventes, taxes sur le chiffre d’affaires (1141E) | F40: Impôts généraux sur les biens et services (TVA, taxes sur les ventes, taxes sur le chiffre d’affaires)(1141E) | G40: Minier | H40: IS libératoire | I40: Direction Générale du Trésor et de la Comptabilité Publique (DGTCP) | J40: 25076 | K40: USD
... B45: =IFERROR(VLOOKUP(Government_revenues_table[[#This Row],[Classification SFP]],Table6_GFS_codes_classification[],COLUMNS($F:F)+3,FALSE),"Do not enter data") -> Impôts (11E) | C45: =IFERROR(VLOOKUP(Government_revenues_table[[#This Row],[Classification SFP]],Table6_GFS_codes_classification[],COLUMNS($F:G)+3,FALSE),"Do not enter data") -> Impôts sur les biens et services (114E) | D45: =IFERROR(VLOOKUP(Government_revenues_table[[#This Row],[Classification SFP]],Table6_GFS_codes_classification[],COLUMNS($F:H)+3,FALSE),"Do not enter data") -> Impôts sur l’usage de biens/permission d’utiliser des biens ou d’exécuter des activités (1145E) | E45: =IFERROR(VLOOKUP(Government_revenues_table[[#This Row],[Classification SFP]],Table6_GFS_codes_classification[],COLUMNS($F:I)+3,FALSE),"Do not enter data") -> Droits de licence (114521E) | F45: Droits de licence (114521E) | G45: Sans objet | H45: Droit fixe | I45: Direction Générale du Trésor et de la Comptabilité Publique (DGTCP) | J45: 0 | K45: USD
F46: Droits de licence (114521E) | G46: Pétrole | H46: Frais de présentation du rapport annuel | I46: Direction Générale Technique de Pétrole (DGTP) | J46: 516013 | K46: USD
F47: Droits de licence (114521E) | G47: Minier | H47: Appui Institutionnel | I47: Direction Générale Technique des Mines (DGTM) | J47: 86388 | K47: USD
F48: Droits de licence (114521E) | G48: Autres | H48: Redevance ARSAT | I48: Autorité de Régulation du Secteur pétrolier Aval du Tchad (ARSAT) | J48: 0 | K48: USD
F49: Droits de licence (114521E) | G49: Pétrole | H49: Redevance superficiaire | I49: Direction Générale du Trésor et de la Comptabilité Publique (DGTCP) | J49: 115778 | K49: USD
F50: Droits de licence (114521E) | G50: Minier | H50: Redevance superficiaire | I50: Direction Générale du Trésor et de la Comptabilité Publique (DGTCP) | J50: 29182 | K50: USD
...

Sheet Partie 5 - Données d’entreprise
K4: Modèle de données résumées
K5: =Introduction!G4 -> AAAA-MM-JJ
C9: Partie 5 (Données d’entreprise) Elle contient des données venant des entreprises - et du niveau projet - par flux de revenus. Les entreprises et projets sont indiqués sur le menu déroulant car ils ont été saisis sur la feuille 3.
C10: Comment remplir cette feuille :
C11: 1. Sélectionnez le nom de l’entreprise sur le menu déroulant
C12: 2. Sélectionnez l’entité collectrice de l’État et le nom du paiement sur le menu déroulant
C13: 3. Indiquez si le flux de paiements est (i) perçu par projet et (ii) déclaré par projet
C14: 4. Inscrivez l’information de projet : nom du projet et devise de déclaration
C15: 5. Inscrivez la valeur des revenus telle que divulguée par le gouvernement et ajoutez tout commentaire pertinent.
C16: Si vous avez des questions, veuillez contacter data@eiti.org
C18: Recettes de l’État par entreprise et projet
C20: Exigence ITIE 4.1.c: Paiements des entreprises ; Exigence ITIE 4.7: Déclaration par projet
B21: Secteur | C21: Entreprise | D21: Entité de l’État | E21: Nom du paiement | F21: Perçu par projet (O/N) | G21: Déclaré par projet (O/N) | H21: Nom du projet | I21: Devise de déclaration | J21: Valeur de revenus | K21: Paiement effectué en nature? | L21: Volume en nature (si applicable) | M21: Unité (si applicable) | N21: Commentaires
B22: =VLOOKUP(C22,Companies[],3,FALSE) -> 600006476 | C22: SHT | D22: Direction Générale du Trésor et de la Comptabilité Publique (DGTCP) | E22: Autres paiements significatifs | F22: Non | G22: Non | H22: Non applicable | I22: USD | J22: 2023 | K22: Non | L22: Non applicable | M22: Non applicable
C23: Esso | D23: Société des Hydrocarbures du Tchad (SHT) | E23: Redevance sur production collecté par la SHT | F23: Non | G23: Non | H23: Non applicable | I23: USD | J23: 0 | K23: Oui | L23: 1891395.3 | M23: barils | N23: Quotes-parts de l'Etat (Redevance sur production) dans le consortium EEPCI
C24: Esso | D24: Société des Hydrocarbures du Tchad (SHT) | E24: Profil Oil collectés par la SHT PCCL | F24: Non | G24: Non | H24: Non applicable | I24: USD | J24: 0 | K24: Oui | L24: 3000887.5 | M24: barils | N24: Quotes-parts de l'Etat (Profit Oil SHT PCCL- 25%) dans le consortium EEPCI
B25: =VLOOKUP(C25,Companies[],3,FALSE) -> 600002755 | C25: Esso | D25: Direction Générale du Trésor et de la Comptabilité Publique (DGTCP) | E25: Impôt direct sur les bénéfices | F25: Non | G25: Non | H25: Non applicable | I25: USD | J25: 22779512 | K25: Non | L25: Non applicable | M25: Non applicable
C26: Esso | D26: Direction Générale du Trésor et de la Comptabilité Publique (DGTCP) | E26: Redevance statistique à l'exportation | F26: Non | G26: Non | H26: Non applicable | I26: USD | J26: 67926 | K26: Non | L26: Non applicable | M26: Non applicable
C27: Esso | D27: Direction Générale du Trésor et de la Comptabilité Publique (DGTCP) | E27: Redevance statistique à l'importation | F27: Non | G27: Non | H27: Non applicable | I27: USD | J27: 65180 | K27: Non | L27: Non applicable | M27: Non applicable
C28: Esso | D28: Direction Générale du Trésor et de la Comptabilité Publique (DGTCP) | E28: Pénalité de non-exécution de contrat | F28: Non | G28: Non | H28: Non applicable | I28: USD | J28: 16778901 | K28: Non | L28: Non applicable | M28: Non applicable
C29: Esso | D29: Direction Générale Technique de Pétrole (DGTP) | E29: Contribution à la formation du personnel du MPME | F29: Non | G29: Non | H29: Non applicable | I29: USD | J29: 262376 | K29: Non | L29: Non applicable | M29: Non applicable
C30: Esso | D30: Direction Générale du Trésor et de la Comptabilité Publique (DGTCP) | E30: Autres paiements significatifs | F30: Non | G30: Non | H30: Non applicable | I30: USD | J30: 60798421 | K30: Non | L30: Non applicable | M30: Non applicable
C31: Petronas | D31: Direction Générale du Trésor et de la Comptabilité Publique (DGTCP) | E31: Impôt direct sur les bénéfices | F31: Non | G31: Non | H31: Non applicable | I31: USD | J31: 103169362 | K31: Non | L31: Non applicable | M31: Non applicable
C32: Petronas | D32: Direction Générale du Trésor et de la Comptabilité Publique (DGTCP) | E32: Redressements fiscaux | F32: Non | G32: Non | H32: Non applicable | I32: USD | J32: 195257 | K32: Non | L32: Non applicable | M32: Non applicable
C33: Petronas | D33: Direction Générale du Trésor et de la Comptabilité Publique (DGTCP) | E33: Autres paiements significatifs | F33: Non | G33: Non | H33: Non applicable | I33: USD | J33: 60043938 | K33: Non | L33: Non applicable | M33: Non applicable
C34: CNPC | D34: Société des Hydrocarbures du Tchad (SHT) | E34: Redevance sur production collecté par la SHT | F34: Non | G34: Non | H34: Non applicable | I34: USD | J34: 0 | K34: Oui | L34: 3543914.8 | M34: barils | N34: Quotes-parts de l'Etat (Redevance sur production) dans le consortium CNPCI
C35: CNPC | D35: Société des Hydrocarbures du Tchad (SHT) | E35: Profit Oil collecté par la SHT | F35: Non | G35: Non | H35: Non applicable | I35: USD | J35: 0 | K35: Oui | L35: 2541955.2 | M35: barils | N35: Quotes-parts de l'Etat (Profit Oil SHT- 10%) dans le consortium CNPCI
C36: CNPC | D36: Direction Générale du Trésor et de la Comptabilité Publique (DGTCP) | E36: Redressements fiscaux | F36: Non | G36: Non | H36: Non applicable | I36: USD | J36: 363551 | K36: Non | L36: Non applicable | M36: Non applicable
